BEGIN:VCALENDAR
VERSION:2.0
PRODID:-//events.getlocalhop.com//localhop-calendar//EN
URL:https://api.getlocalhop.com/calendar?instance=ziY6yMcLnR&series=false
BEGIN:VEVENT
UID:event-instance-ziY6yMcLnR@events.getlocalhop.com
SEQUENCE:0
DTSTAMP:20260424T091642Z
DTSTART:20230917T180000Z
DTEND:20230917T210000Z
SUMMARY:Oak Hill Cemetery Walk
LOCATION:Oak Hill Cemetery\, 216 University Drive Pontiac\, MI 48342
DESCRIPTION:<p>Don't miss this dynamic annual walking tour\, as we explore
  the historic Oak Hill Cemetery in Pontiac\, Michigan. It is educational\,
  it is fun\, and it is outdoors. The event will happen rain or shine. Purc
 hase your tickets today\, or you may miss out -- tickets have sold out in 
 previous years. This year's theme is \"Musicians and Artists\" with an emp
 hasis on the stories of some of the creative community members laid to res
 t in the cemetery.</p>
URL;VALUE=URI:https://events.getlocalhop.com/oak-hill-cemetery-walk/event/
 xkP986T0BV/
END:VEVENT
END:VCALENDAR