BEGIN:VCALENDAR
VERSION:2.0
PRODID:-//events.getlocalhop.com//localhop-calendar//EN
URL:https://api.getlocalhop.com/calendar?instance=zDimekoXH5&series=false
BEGIN:VEVENT
UID:event-instance-zDimekoXH5@events.getlocalhop.com
SEQUENCE:0
DTSTAMP:20260421T111149Z
DTSTART:20260311T190000Z
DTEND:20260311T200000Z
SUMMARY:Craft & Chat - Saranac Library
LOCATION:SCDL - Saranac Location\, 61 N. Bridge St. Saranac\, MI 48881
DESCRIPTION:<p>Our Adult Paint program is getting a new name. Welcome Craf
 t &amp\; Chat! This new name encompasses the vibe of the program just a li
 ttle more\, a group that gets together to craft and socialize.</p>\n<p>Bri
 ng your creativity and we will supply the rest! This month we will be maki
 ng Spring Welcome Door Signs.</p>\n<p>Registration is required. Must be 18
 + to register and participate.</p>
URL;VALUE=URI:https://events.getlocalhop.com/craft-and-chat-saranac-librar
 y/event/yLBYdBRNfh/
END:VEVENT
END:VCALENDAR