BEGIN:VCALENDAR
VERSION:2.0
PRODID:-//events.getlocalhop.com//localhop-calendar//EN
URL:https://api.getlocalhop.com/calendar?instance=yyVLoaI5V5&series=false
BEGIN:VEVENT
UID:event-instance-yyVLoaI5V5@events.getlocalhop.com
SEQUENCE:0
DTSTAMP:20260423T150750Z
DTSTART:20260506T150000Z
DTEND:20260506T180000Z
SUMMARY:All Ability Pals
LOCATION:Puskarich Public Library\, 200 E. Market St. Cadiz\, OH 43907
DESCRIPTION:<p>These interactive programs are designed for adults with dev
 elopmental disabilities and their caregivers. We will be meeting monthly t
 o get together with others and be creative!&nbsp\;</p>\n<p>Programs will r
 un from 11 a.m. to 2 p.m.\, and you are welcome to bring your lunch. Craft
 s begin at 11 a.m.\, and at 12 p.m. we will have a snack (or your packed l
 unch) and a movie. Come for all or part of the program! Crafts and snacks 
 are provided. Please call 740-942-2623 with any questions.</p>\n<p>May 6 a
 t 11 a.m.--Silhouette Painting</p>\n<p>June 3 at 11 a.m.--Paper Sunflower 
 Collage</p>\n<p>July 1 at 11 a.m.--Patriotic Gnome</p>
URL;VALUE=URI:https://events.getlocalhop.com/all-ability-pals/event/JsiQqW
 S1VN/
END:VEVENT
END:VCALENDAR