BEGIN:VCALENDAR
VERSION:2.0
PRODID:-//events.getlocalhop.com//localhop-calendar//EN
URL:https://api.getlocalhop.com/calendar?instance=ymAi3RQ25W&series=false
BEGIN:VEVENT
UID:event-instance-ymAi3RQ25W@events.getlocalhop.com
SEQUENCE:0
DTSTAMP:20260419T160514Z
DTSTART:20181212T220000Z
DTEND:20181212T230000Z
SUMMARY:Tween Nights
LOCATION:Troy Public Library\, 510 W. Big Beaver Rd Troy\, MI 48084\, Craf
 t Room
DESCRIPTION:Tweens ages 9-13 are invited to hang out in the library\, make
  crafts\, and eat snacks. This is a great way to get involved in your comm
 unity and to meet like-minded kids!
URL;VALUE=URI:https://events.getlocalhop.com/tween-nights/event/G4SnzIGnP4
 /
END:VEVENT
END:VCALENDAR