BEGIN:VCALENDAR
VERSION:2.0
PRODID:-//events.getlocalhop.com//localhop-calendar//EN
URL:https://api.getlocalhop.com/calendar?instance=xm2JHcLD1u&series=false
BEGIN:VEVENT
UID:event-instance-xm2JHcLD1u@events.getlocalhop.com
SEQUENCE:0
DTSTAMP:20260420T103320Z
DTSTART:20220629T200000Z
DTEND:20220629T230000Z
SUMMARY:Tablet Tutoring
LOCATION:Mount Clemens Public Library\, 300 N. Groesbeck Hwy. Mount Clemen
 s\, MI 48043
DESCRIPTION:<p>Learn how to download books\, audio books\, movies and more
  on your phone\, ipad\, tablet\, or personal computer. Bring your device a
 nd questions and the librarian will work with you.</p>
URL;VALUE=URI:https://events.getlocalhop.com/tablet-tutoring/event/H4KyBQc
 g41/
END:VEVENT
END:VCALENDAR