BEGIN:VCALENDAR
VERSION:2.0
PRODID:-//events.getlocalhop.com//localhop-calendar//EN
URL:https://api.getlocalhop.com/calendar?instance=xUZBW9Aq4x&series=false
BEGIN:VEVENT
UID:event-instance-xUZBW9Aq4x@events.getlocalhop.com
SEQUENCE:0
DTSTAMP:20260422T123716Z
DTSTART:20260427T213000Z
DTEND:20260427T233000Z
SUMMARY:Great Lakes Poetry Festival Global Cinema: :  \"Endless Poetry \"
LOCATION:Peter White Public Library\, 217 N Front St Marquette\, MI 49855\
 , Shiras Room
DESCRIPTION:<p>Monday\, April 27\, 2026. &nbsp\;5:30 p.m.-7:30 p.m. &nbsp\
 ;Peter White Public Library Shiras Room. &nbsp\;Adults\, Seniors\, Teens. 
 &nbsp\;In this acclaimed film\, a young man living in Santiago\, Chile\, g
 oes against his family&rsquo\;s wishes and pursues a career as a poet. &nb
 sp\;Not rated. &nbsp\;No admission charge. &nbsp\;For more information\, c
 ontact Marty at 226-4322\, machatz@pwpl.info\, or visit pwpl.info.</p>
URL;VALUE=URI:https://events.getlocalhop.com/great-lakes-poetry-festival-g
 lobal-cinema-endless-poetry/event/ZEJkDdK8Y6/
END:VEVENT
END:VCALENDAR