BEGIN:VCALENDAR
VERSION:2.0
PRODID:-//events.getlocalhop.com//localhop-calendar//EN
URL:https://api.getlocalhop.com/calendar?instance=xQEAp2mGqF&series=false
BEGIN:VEVENT
UID:event-instance-xQEAp2mGqF@events.getlocalhop.com
SEQUENCE:0
DTSTAMP:20260424T160926Z
DTSTART:20240711T180000Z
DTEND:20240711T190000Z
SUMMARY:Bubblepalooza
LOCATION:Trenton Veterans Memorial Library\, 2790 Westfield Road Trenton\,
  MI 48183
DESCRIPTION:<p>Children explore how bubbles form\, as well as how to make 
 bubble solutions and bubble wands. Younger kiddos will make bubble paintin
 gs while older children will construct giant bubble wands to see who can l
 everage surface tension to blow the biggest bubble! (Bubble solution will 
 be made with dish soap\, water\, glycerin and/or granulated sugar.)</p>\n<
 p>&nbsp\;</p>\n<p><strong>For children ages 5-12.&nbsp\; Registration requ
 ired.&nbsp\; Please register online\, if you need assistance please call t
 he library at 734-676-9777.</strong></p>
URL;VALUE=URI:https://events.getlocalhop.com/bubblepalooza/event/CCy31GyBi
 p/
END:VEVENT
END:VCALENDAR