BEGIN:VCALENDAR
VERSION:2.0
PRODID:-//events.getlocalhop.com//localhop-calendar//EN
URL:https://api.getlocalhop.com/calendar?instance=x47LP2shgy&series=false
BEGIN:VEVENT
UID:event-instance-x47LP2shgy@events.getlocalhop.com
SEQUENCE:0
DTSTAMP:20260426T041420Z
DTSTART:20230813T160000Z
DTEND:20230813T210000Z
SUMMARY:Mott Lake Regatta
LOCATION:Bluebell Beach\, 5500 N. Bray Rd Flint\, MI 48505
DESCRIPTION:<p>Join us for the first ever Mott Lake Regatta!</p>\n<p>This 
 exciting\, family friendly event will bring the speed of Inboard Hydroplan
 e Boat Racing to Genesee County.</p>\n<p>Viewing will be from Bluebell Bea
 ch\, where there will be food trucks and a Beer Garden.</p>\n<p>Come to Mo
 tt Lake to see the War of the Wake!</p>\n<p><em>Tickets available onsite t
 he days of the race</em>.&nbsp\; <strong>$20 per day per vehicle or $30 fo
 r both days per vehicle.</strong></p>\n<p>&nbsp\;</p>
URL;VALUE=URI:https://events.getlocalhop.com/mott-lake-regatta/event/XqF8R
 EQIZf/
END:VEVENT
END:VCALENDAR