BEGIN:VCALENDAR
VERSION:2.0
PRODID:-//events.getlocalhop.com//localhop-calendar//EN
URL:https://api.getlocalhop.com/calendar?instance=wy6fWwFSKi&series=false
BEGIN:VEVENT
UID:event-instance-wy6fWwFSKi@events.getlocalhop.com
SEQUENCE:0
DTSTAMP:20260421T111219Z
DTSTART:20260313T230000Z
DTEND:20260313T234500Z
SUMMARY:Friday Family Fun Yoga
LOCATION:Stoughton Yoga\, 101 Silverado Dr. Stoughton\, WI 53589
DESCRIPTION:<p>Enjoy a free family yoga class presented in partnership bet
 ween Stoughton Yoga and the Stoughton Public Library. These playful beginn
 er-level classes are designed for children ages 6 and up and their caregiv
 ers. Children must be at least 6 years old to participate. We recommend yo
 u bring a blanket or towel\, but the studio can loan you any other props y
 ou need\, even a mat. Registration for this free class is required. For sa
 fety\, please leave water bottles in the shoe and coat room.</p>
URL;VALUE=URI:https://events.getlocalhop.com/friday-family-fun-yoga/event/
 ekQDvcsF2v/
END:VEVENT
END:VCALENDAR