BEGIN:VCALENDAR
VERSION:2.0
PRODID:-//events.getlocalhop.com//localhop-calendar//EN
URL:https://api.getlocalhop.com/calendar?instance=wwQYuPsC96&series=false
BEGIN:VEVENT
UID:event-instance-wwQYuPsC96@events.getlocalhop.com
SEQUENCE:0
DTSTAMP:20260421T201324Z
DTSTART:20221221T230000Z
DTEND:20221222T014500Z
SUMMARY:New Jersey Needle Artists
LOCATION:Bernards Township Library\, 32 South Maple Avenue Basking Ridge\,
  NJ 07920
DESCRIPTION:<p>This is not a Library program. &nbsp\;Please contact the NJ
  Needle Artists\, https://njneedleartists.org with questions.</p>
URL;VALUE=URI:https://events.getlocalhop.com/new-jersey-needle-artists/eve
 nt/loRHNYHzFd/
END:VEVENT
END:VCALENDAR