BEGIN:VCALENDAR
VERSION:2.0
PRODID:-//events.getlocalhop.com//localhop-calendar//EN
URL:https://api.getlocalhop.com/calendar?instance=w51gjaKwWr&series=false
BEGIN:VEVENT
UID:event-instance-w51gjaKwWr@events.getlocalhop.com
SEQUENCE:0
DTSTAMP:20260423T134030Z
DTSTART:20210517T150000Z
DTEND:20210517T153000Z
SUMMARY:Move and Groove Mondays
LOCATION:300 West Merrill Street Birmingham\, MI 48009\, Online
DESCRIPTION:Join Ms. Caroline for stories and activities that will get you
  moving up\, down\, and all around. This virtual story time meets every ot
 her Monday.  A Zoom link will be emailed to registered participants on the
  day of the program. This session is for May 3 and 17. \n\nBest for ages 3
  to 5 and their grownups.
URL;VALUE=URI:https://events.getlocalhop.com/move-and-groove-mondays/event
 /DTAKFHsAxo/
END:VEVENT
END:VCALENDAR