BEGIN:VCALENDAR
VERSION:2.0
PRODID:-//events.getlocalhop.com//localhop-calendar//EN
URL:https://api.getlocalhop.com/calendar?instance=w2NaUPOBM9&series=false
BEGIN:VEVENT
UID:event-instance-w2NaUPOBM9@events.getlocalhop.com
SEQUENCE:0
DTSTAMP:20260423T153843Z
DTSTART;VALUE=DATE:20260427
DTEND;VALUE=DATE:20260428
X-MICROSOFT-CDO-ALLDAYEVENT:TRUE
X-MICROSOFT-MSNCALENDAR-ALLDAYEVENT:TRUE
SUMMARY:WAPL Conference
LOCATION:Osthoff Resort\, 101 Osthoff Avenue Elkhart Lake\, WI 53020
DESCRIPTION:<p>Plans are underway for the <a href=\"https://www.wisconsinl
 ibraries.org/wapl-spring-conference\">2026 WAPL Conference</a> taking plac
 e April 27-29\, at the Osthoff Resort in Elkhart Lake\, WI. &nbsp\;Hosted 
 by the Wisconsin Association of Public Libraries (WAPL)\, a division of th
 e Wisconsin Library Association\, this annual event brings together member
 s of the public library community to share big ideas and learn from each o
 ther through interactive breakout sessions and special events.&nbsp\;</p>
URL;VALUE=URI:https://events.getlocalhop.com/wapl-conference/event/z1dLTPw
 1uS/
END:VEVENT
END:VCALENDAR