BEGIN:VCALENDAR
VERSION:2.0
PRODID:-//events.getlocalhop.com//localhop-calendar//EN
URL:https://api.getlocalhop.com/calendar?instance=vua5TdD9Vk&series=false
BEGIN:VEVENT
UID:event-instance-vua5TdD9Vk@events.getlocalhop.com
SEQUENCE:0
DTSTAMP:20260420T142843Z
DTSTART:20220421T210000Z
DTEND:20220421T230000Z
SUMMARY:Game Night (C)
LOCATION:Coldwater Branch Library\, 10 E. Chicago St. Coldwater\, MI 49036
DESCRIPTION:<p>Board games are the new video games! A variety of competiti
 ve and cooperative games are available for most ages and skill levels.</p>
URL;VALUE=URI:https://events.getlocalhop.com/game-night-c/event/SJcDov5idG
 /
END:VEVENT
END:VCALENDAR