BEGIN:VCALENDAR
VERSION:2.0
PRODID:-//events.getlocalhop.com//localhop-calendar//EN
URL:https://api.getlocalhop.com/calendar?instance=vfRO4nRGdx&series=false
BEGIN:VEVENT
UID:event-instance-vfRO4nRGdx@events.getlocalhop.com
SEQUENCE:0
DTSTAMP:20260419T120734Z
DTSTART:20260317T223000Z
DTEND:20260317T234500Z
SUMMARY:Book Club: \"The Frozen River\"
LOCATION:840 W. Frank St Caro\, MI 48723
DESCRIPTION:<p>Check out a book from the front desk or grab one through th
 e Libby or Hoopla apps and join us for a great discussion!</p>\n<p>\"</p>\
 n<p>\"A gripping historical mystery inspired by the life and diary of Mart
 ha Ballard\, a renowned 18th-century midwife who investigates a shocking m
 urder that unhinges her small community.</p>\n<p>Maine\, 1789: The Kennebe
 c River freezes\, entombing a man in the ice. Martha Ballard is summoned t
 o examine the body and determine cause of death. As the local midwife and 
 healer\, Martha is good at keeping secrets. Her diary is a record of every
  birth and death\, every murder and debacle that unfolds in the town of Ha
 llowell. In that diary she also documented the details of an alleged rape 
 that occurred four months earlier. Now\, one of the men accused of that he
 inous attack has been found dead in the ice.</p>\n<p>While Martha is certa
 in she knows what happened the night of the assault\, she suspects that th
 e two crimes are linked\, and that there is more to both cases than meets 
 the eye. Over the course of one long\, hard winter\, as the trial nears\, 
 and whispers and prejudices mount\, Martha&rsquo\;s diary lands at the cen
 ter of the scandal and threatens to tear both her family and her community
  apart.</p>\n<p>In her newest offering\, Ariel Lawhon brings to life a bra
 ve and compassionate unsung heroine who refused to accept anything less th
 an justice on behalf of those no one else would protect. The Frozen River 
 is a thrilling\, tense\, and tender story of a remarkable woman who had th
 e courage to take a stand\, and in the process wrote herself into American
  history.\"</p>
URL;VALUE=URI:https://events.getlocalhop.com/book-club-the-frozen-river/ev
 ent/eYTZCbhZIF/
END:VEVENT
END:VCALENDAR