BEGIN:VCALENDAR
VERSION:2.0
PRODID:-//events.getlocalhop.com//localhop-calendar//EN
URL:https://api.getlocalhop.com/calendar?instance=vIdPGRO4VD&series=false
BEGIN:VEVENT
UID:event-instance-vIdPGRO4VD@events.getlocalhop.com
SEQUENCE:0
DTSTAMP:20260423T170034Z
DTSTART:20250919T210000Z
DTEND:20250919T230000Z
SUMMARY:Art & a Movie: How To Train Your Dragon & Dragon Eggs
LOCATION:Washington District Library\, 380 N. Wilmor Rd. Washington\, IL 6
 1571\, Meeting Room
DESCRIPTION:<p>Calling all tweens &amp\; teens! Join us for a movie &amp\;
  a craft.</p>\n<p>Ages: 9-18\; Drop Off Event</p>
URL;VALUE=URI:https://events.getlocalhop.com/art-and-a-movie-how-to-train-
 your-dragon-and-dragon-eggs/event/dxB7YtyKcf/
END:VEVENT
END:VCALENDAR