BEGIN:VCALENDAR
VERSION:2.0
PRODID:-//events.getlocalhop.com//localhop-calendar//EN
URL:https://api.getlocalhop.com/calendar?instance=v2L4D7rKOa&series=false
BEGIN:VEVENT
UID:event-instance-v2L4D7rKOa@events.getlocalhop.com
SEQUENCE:0
DTSTAMP:20260421T111526Z
DTSTART:20250125T190000Z
DTEND:20250125T200000Z
SUMMARY:Magic Tree House Storytime & Craft
LOCATION:Fraser Public Library\, 15260 15 Mile Road Fraser\, MI 48026
DESCRIPTION:<p>Join the Fraser Public Library as we embark on epic adventu
 res with Jack and Annie in their Magic Tree House! Storytime is followed b
 y a craft that revolves around the theme of the book. This event is best s
 uited for children ages 5-10.</p>\n<p>January 25th we will be reading Tige
 rs at Twilight.</p>
URL;VALUE=URI:https://events.getlocalhop.com/magic-tree-house-storytime-an
 d-craft/event/VacZ6wSXTO/
END:VEVENT
END:VCALENDAR