BEGIN:VCALENDAR
VERSION:2.0
PRODID:-//events.getlocalhop.com//localhop-calendar//EN
URL:https://api.getlocalhop.com/calendar?instance=uurM7mpAug&series=false
BEGIN:VEVENT
UID:event-instance-uurM7mpAug@events.getlocalhop.com
SEQUENCE:0
DTSTAMP:20260420T045013Z
DTSTART:20240525T180000Z
DTEND:20240525T190000Z
SUMMARY:Pokémon Trading Card Day
LOCATION:Johnson City Public Library\, 100 West Millard Street Johnson Cit
 y\, TN 37604\, Jones Meeting Center
DESCRIPTION:<p>Calling all young Pok&eacute\;mon fans! Come to the Library
  on the last Saturday of every month from 2-3 p.m. to trade Pok&eacute\;mo
 n cards with other kids. (If you have other types of trading cards\, those
  are welcome too!) We will meet in the Library's Jones Meeting Center this
  month. No registration required.</p>\n<p>&nbsp\;</p>\n<p>Remember that th
 e Library is not responsible for participants' personal property. Please k
 eep your cards with you at all times!</p>
URL;VALUE=URI:https://events.getlocalhop.com/pokemon-trading-card-day/even
 t/WGGdd0TtMB/
END:VEVENT
END:VCALENDAR