BEGIN:VCALENDAR
VERSION:2.0
PRODID:-//events.getlocalhop.com//localhop-calendar//EN
URL:https://api.getlocalhop.com/calendar?instance=utvTePLRKd&series=false
BEGIN:VEVENT
UID:event-instance-utvTePLRKd@events.getlocalhop.com
SEQUENCE:0
DTSTAMP:20260421T155851Z
DTSTART:20210722T200000Z
DTEND:20210722T220000Z
SUMMARY:Retro Recess
LOCATION:Warren Maybelle Burnette Library\, 23345 Van Dyke Ave Warren\, MI
  48089
DESCRIPTION:Teens and tweens can meet up at the playground behind the Burn
 ette Library for this special edition of Retro Recess. Hang out on the pla
 yground with your friends\, tie dye a t-shirt\, play yard games\, and enjo
 y some retro fun like sidewalk chalk\, hula hoops\, jump rope\, giant bubb
 les\, and squirt gun painting.  Pizza will be served.  Registration is req
 uired and open to any tweens and teens ages \n10-17. This is a parent-free
  event. Teens should bring a beach towel or blanket for sitting on the gra
 ss and a white t-shirt to tie dye.\n\n*Weather Permitting*
URL;VALUE=URI:https://events.getlocalhop.com/retro-recess/event/WH19hvEX7e
 /
END:VEVENT
END:VCALENDAR