BEGIN:VCALENDAR
VERSION:2.0
PRODID:-//events.getlocalhop.com//localhop-calendar//EN
URL:https://api.getlocalhop.com/calendar?instance=u5oRWZdrFB&series=false
BEGIN:VEVENT
UID:event-instance-u5oRWZdrFB@events.getlocalhop.com
SEQUENCE:0
DTSTAMP:20260419T122341Z
DTSTART:20260314T150000Z
DTEND:20260314T160000Z
SUMMARY:Hatching chicks with Genesee County 4H
LOCATION:For-Mar Nature Preserve & Arboretum\, 2142 N Genesee Rd Burton\, 
 MI 48509
DESCRIPTION:<p>Meet the Eggs! &nbsp\;Join us as we explore the science of 
 embryology. &nbsp\;During this program\, you will get to see our eggs up c
 lose and get an update on their development\, learn about the science of h
 atching chicks\, and meet the Genesee County 4H staff who help bring this 
 program to Genesee County schools and community organizations. This progra
 m is in partnership with Genesee County 4H. For more information about the
 ir programs\, visit: https://www.canr.msu.edu/genesee/genesee_county_4_h/ 
 &nbsp\;</p>\n<p>Suggested for all ages.&nbsp\;</p>\n<p><strong>Cost</stron
 g>: FREE &nbsp\;</p>\n<p><em>This is a drop-in program\; pre-registration 
 is not required.</em></p>
URL;VALUE=URI:https://events.getlocalhop.com/hatching-chicks-with-genesee-
 county-4h/event/9XRC0yE6NE/
END:VEVENT
END:VCALENDAR