BEGIN:VCALENDAR
VERSION:2.0
PRODID:-//events.getlocalhop.com//localhop-calendar//EN
URL:https://api.getlocalhop.com/calendar?instance=tf8xPVod1Y&series=false
BEGIN:VEVENT
UID:event-instance-tf8xPVod1Y@events.getlocalhop.com
SEQUENCE:0
DTSTAMP:20260421T095208Z
DTSTART:20230420T223000Z
DTEND:20230421T000000Z
SUMMARY:Seekers Book Club: \"Hellhound On His Tail\"
LOCATION:Langston Centre\, 315 Elm Street Johnson City\, TN 37601
DESCRIPTION:<p>On Thursday\, April 20 at 6:30 p.m.\, ages 18 and older are
  invited to Seekers Book Club to discuss <em>Hellhound On His Tail: The St
 alking of Martin Luther King\, Jr. and the International Hunt for His Assa
 ssin</em> by Hampton Sides. The group meets at the Langston Centre (315 El
 m Street\, Johnson City) on the third Thursday of every month. Registratio
 n is required\; call the Langston Centre at (423) 434-5785 to register and
  learn more. Call Adult Services at (423) 434-4454 for help finding a copy
  of the book.</p>\n<p>&nbsp\;</p>\n<p><em>Hellhound On His Trail: The Stal
 king of Martin Luther King\, Jr.\, and the International Hunt for His Assa
 ssin</em> is a work of nonfiction that reads like a thriller. \"Magnificen
 t in scope\, drawing on a wealth of previously unpublished material\, this
  nonfiction thriller illuminates one of the darkest hours in American life
 &mdash\;an example of how history is so often a matter of the petty bringi
 ng down the great.\" (Doubleday\, 2010)</p>\n<p>&nbsp\;</p>\n<p>Seekers Bo
 ok Club is a monthly book discussion group that reads classic and contempo
 rary works by African American authors. The series is a partnership betwee
 n Johnson City Public Library and the Langston Centre.</p>
URL;VALUE=URI:https://events.getlocalhop.com/seekers-book-club-hellhound-o
 n-his-tail/event/giiWnLMJW0/
END:VEVENT
END:VCALENDAR