BEGIN:VCALENDAR
VERSION:2.0
PRODID:-//events.getlocalhop.com//localhop-calendar//EN
URL:https://api.getlocalhop.com/calendar?instance=tRRLCeOCFI&series=false
BEGIN:VEVENT
UID:event-instance-tRRLCeOCFI@events.getlocalhop.com
SEQUENCE:0
DTSTAMP:20260420T113649Z
DTSTART:20241030T200000Z
DTEND:20241030T203000Z
SUMMARY:Bryant Branch Family Dance Party (Families)
LOCATION:Bryant Branch Library\, 22100 Michigan Ave. Dearborn\, MI 48124
DESCRIPTION:<p>Wear a costume and be ready to move and groove to Halloween
  tunes. No registration.</p>
URL;VALUE=URI:https://events.getlocalhop.com/bryant-branch-family-dance-pa
 rty-families/event/BIT2rwaJSi/
END:VEVENT
END:VCALENDAR