BEGIN:VCALENDAR
VERSION:2.0
PRODID:-//events.getlocalhop.com//localhop-calendar//EN
URL:https://api.getlocalhop.com/calendar?instance=tGNSeOLFGC&series=true
BEGIN:VEVENT
UID:event-instance-tGNSeOLFGC@events.getlocalhop.com
SEQUENCE:0
DTSTAMP:20260423T142533Z
DTSTART:20260427T190000Z
DTEND:20260427T210000Z
SUMMARY:Pokemon Card Club
LOCATION:Louisville Public Library\, 1600 S Nickelplate St.\, Louisville\,
  OH 44641 Louisville\, OH 44641
DESCRIPTION:<p><strong>New Time!</strong>&nbsp\; Trade cards\, play the ga
 me\, or just hang out and talk Pokemon! &nbsp\;All experience levels are w
 elcome.</p>\n<p>On the first Monday of the month\, we'll do Pokemon GO! in
  the park\, weather permitting.</p>
URL;VALUE=URI:https://events.getlocalhop.com/pokemon-card-club/event/73Etw
 uppre/
END:VEVENT
BEGIN:VEVENT
UID:event-instance-4GIgha00hA@events.getlocalhop.com
SEQUENCE:0
DTSTAMP:20260423T142533Z
DTSTART:20260504T190000Z
DTEND:20260504T210000Z
SUMMARY:Pokemon Card Club
LOCATION:Louisville Public Library\, 1600 S Nickelplate St.\, Louisville\,
  OH 44641 Louisville\, OH 44641
DESCRIPTION:<p><strong>New Time!</strong>&nbsp\; Trade cards\, play the ga
 me\, or just hang out and talk Pokemon! &nbsp\;All experience levels are w
 elcome.</p>\n<p>On the first Monday of the month\, we'll do Pokemon GO! in
  the park\, weather permitting.</p>
URL;VALUE=URI:https://events.getlocalhop.com/pokemon-card-club/event/73Etw
 uppre/
END:VEVENT
BEGIN:VEVENT
UID:event-instance-f1hQHBJd99@events.getlocalhop.com
SEQUENCE:0
DTSTAMP:20260423T142533Z
DTSTART:20260511T190000Z
DTEND:20260511T210000Z
SUMMARY:Pokemon Card Club
LOCATION:Louisville Public Library\, 1600 S Nickelplate St.\, Louisville\,
  OH 44641 Louisville\, OH 44641
DESCRIPTION:<p><strong>New Time!</strong>&nbsp\; Trade cards\, play the ga
 me\, or just hang out and talk Pokemon! &nbsp\;All experience levels are w
 elcome.</p>\n<p>On the first Monday of the month\, we'll do Pokemon GO! in
  the park\, weather permitting.</p>
URL;VALUE=URI:https://events.getlocalhop.com/pokemon-card-club/event/73Etw
 uppre/
END:VEVENT
BEGIN:VEVENT
UID:event-instance-9T7b8S6097@events.getlocalhop.com
SEQUENCE:0
DTSTAMP:20260423T142533Z
DTSTART:20260518T190000Z
DTEND:20260518T210000Z
SUMMARY:Pokemon Card Club
LOCATION:Louisville Public Library\, 1600 S Nickelplate St.\, Louisville\,
  OH 44641 Louisville\, OH 44641
DESCRIPTION:<p><strong>New Time!</strong>&nbsp\; Trade cards\, play the ga
 me\, or just hang out and talk Pokemon! &nbsp\;All experience levels are w
 elcome.</p>\n<p>On the first Monday of the month\, we'll do Pokemon GO! in
  the park\, weather permitting.</p>
URL;VALUE=URI:https://events.getlocalhop.com/pokemon-card-club/event/73Etw
 uppre/
END:VEVENT
BEGIN:VEVENT
UID:event-instance-yfAiDqWdKr@events.getlocalhop.com
SEQUENCE:0
DTSTAMP:20260423T142533Z
DTSTART:20260601T190000Z
DTEND:20260601T210000Z
SUMMARY:Pokemon Card Club
LOCATION:Louisville Public Library\, 1600 S Nickelplate St.\, Louisville\,
  OH 44641 Louisville\, OH 44641
DESCRIPTION:<p><strong>New Time!</strong>&nbsp\; Trade cards\, play the ga
 me\, or just hang out and talk Pokemon! &nbsp\;All experience levels are w
 elcome.</p>\n<p>On the first Monday of the month\, we'll do Pokemon GO! in
  the park\, weather permitting.</p>
URL;VALUE=URI:https://events.getlocalhop.com/pokemon-card-club/event/73Etw
 uppre/
END:VEVENT
BEGIN:VEVENT
UID:event-instance-aoWBOhSeR7@events.getlocalhop.com
SEQUENCE:0
DTSTAMP:20260423T142533Z
DTSTART:20260608T190000Z
DTEND:20260608T210000Z
SUMMARY:Pokemon Card Club
LOCATION:Louisville Public Library\, 1600 S Nickelplate St.\, Louisville\,
  OH 44641 Louisville\, OH 44641
DESCRIPTION:<p><strong>New Time!</strong>&nbsp\; Trade cards\, play the ga
 me\, or just hang out and talk Pokemon! &nbsp\;All experience levels are w
 elcome.</p>\n<p>On the first Monday of the month\, we'll do Pokemon GO! in
  the park\, weather permitting.</p>
URL;VALUE=URI:https://events.getlocalhop.com/pokemon-card-club/event/73Etw
 uppre/
END:VEVENT
BEGIN:VEVENT
UID:event-instance-yZaIWAoeL3@events.getlocalhop.com
SEQUENCE:0
DTSTAMP:20260423T142533Z
DTSTART:20260615T190000Z
DTEND:20260615T210000Z
SUMMARY:Pokemon Card Club
LOCATION:Louisville Public Library\, 1600 S Nickelplate St.\, Louisville\,
  OH 44641 Louisville\, OH 44641
DESCRIPTION:<p><strong>New Time!</strong>&nbsp\; Trade cards\, play the ga
 me\, or just hang out and talk Pokemon! &nbsp\;All experience levels are w
 elcome.</p>\n<p>On the first Monday of the month\, we'll do Pokemon GO! in
  the park\, weather permitting.</p>
URL;VALUE=URI:https://events.getlocalhop.com/pokemon-card-club/event/73Etw
 uppre/
END:VEVENT
BEGIN:VEVENT
UID:event-instance-2BpqwmJ6HZ@events.getlocalhop.com
SEQUENCE:0
DTSTAMP:20260423T142533Z
DTSTART:20260622T190000Z
DTEND:20260622T210000Z
SUMMARY:Pokemon Card Club
LOCATION:Louisville Public Library\, 1600 S Nickelplate St.\, Louisville\,
  OH 44641 Louisville\, OH 44641
DESCRIPTION:<p><strong>New Time!</strong>&nbsp\; Trade cards\, play the ga
 me\, or just hang out and talk Pokemon! &nbsp\;All experience levels are w
 elcome.</p>\n<p>On the first Monday of the month\, we'll do Pokemon GO! in
  the park\, weather permitting.</p>
URL;VALUE=URI:https://events.getlocalhop.com/pokemon-card-club/event/73Etw
 uppre/
END:VEVENT
BEGIN:VEVENT
UID:event-instance-W4TDcThAh9@events.getlocalhop.com
SEQUENCE:0
DTSTAMP:20260423T142533Z
DTSTART:20260629T190000Z
DTEND:20260629T210000Z
SUMMARY:Pokemon Card Club
LOCATION:Louisville Public Library\, 1600 S Nickelplate St.\, Louisville\,
  OH 44641 Louisville\, OH 44641
DESCRIPTION:<p><strong>New Time!</strong>&nbsp\; Trade cards\, play the ga
 me\, or just hang out and talk Pokemon! &nbsp\;All experience levels are w
 elcome.</p>\n<p>On the first Monday of the month\, we'll do Pokemon GO! in
  the park\, weather permitting.</p>
URL;VALUE=URI:https://events.getlocalhop.com/pokemon-card-club/event/73Etw
 uppre/
END:VEVENT
BEGIN:VEVENT
UID:event-instance-b0GH77nnLb@events.getlocalhop.com
SEQUENCE:0
DTSTAMP:20260423T142533Z
DTSTART:20260706T190000Z
DTEND:20260706T210000Z
SUMMARY:Pokemon Card Club
LOCATION:Louisville Public Library\, 1600 S Nickelplate St.\, Louisville\,
  OH 44641 Louisville\, OH 44641
DESCRIPTION:<p><strong>New Time!</strong>&nbsp\; Trade cards\, play the ga
 me\, or just hang out and talk Pokemon! &nbsp\;All experience levels are w
 elcome.</p>\n<p>On the first Monday of the month\, we'll do Pokemon GO! in
  the park\, weather permitting.</p>
URL;VALUE=URI:https://events.getlocalhop.com/pokemon-card-club/event/73Etw
 uppre/
END:VEVENT
BEGIN:VEVENT
UID:event-instance-USwrpxA19l@events.getlocalhop.com
SEQUENCE:0
DTSTAMP:20260423T142533Z
DTSTART:20260713T190000Z
DTEND:20260713T210000Z
SUMMARY:Pokemon Card Club
LOCATION:Louisville Public Library\, 1600 S Nickelplate St.\, Louisville\,
  OH 44641 Louisville\, OH 44641
DESCRIPTION:<p><strong>New Time!</strong>&nbsp\; Trade cards\, play the ga
 me\, or just hang out and talk Pokemon! &nbsp\;All experience levels are w
 elcome.</p>\n<p>On the first Monday of the month\, we'll do Pokemon GO! in
  the park\, weather permitting.</p>
URL;VALUE=URI:https://events.getlocalhop.com/pokemon-card-club/event/73Etw
 uppre/
END:VEVENT
BEGIN:VEVENT
UID:event-instance-HtcUpEHqH1@events.getlocalhop.com
SEQUENCE:0
DTSTAMP:20260423T142533Z
DTSTART:20260720T190000Z
DTEND:20260720T210000Z
SUMMARY:Pokemon Card Club
LOCATION:Louisville Public Library\, 1600 S Nickelplate St.\, Louisville\,
  OH 44641 Louisville\, OH 44641
DESCRIPTION:<p><strong>New Time!</strong>&nbsp\; Trade cards\, play the ga
 me\, or just hang out and talk Pokemon! &nbsp\;All experience levels are w
 elcome.</p>\n<p>On the first Monday of the month\, we'll do Pokemon GO! in
  the park\, weather permitting.</p>
URL;VALUE=URI:https://events.getlocalhop.com/pokemon-card-club/event/73Etw
 uppre/
END:VEVENT
BEGIN:VEVENT
UID:event-instance-P681PbydQf@events.getlocalhop.com
SEQUENCE:0
DTSTAMP:20260423T142533Z
DTSTART:20260727T190000Z
DTEND:20260727T210000Z
SUMMARY:Pokemon Card Club
LOCATION:Louisville Public Library\, 1600 S Nickelplate St.\, Louisville\,
  OH 44641 Louisville\, OH 44641
DESCRIPTION:<p><strong>New Time!</strong>&nbsp\; Trade cards\, play the ga
 me\, or just hang out and talk Pokemon! &nbsp\;All experience levels are w
 elcome.</p>\n<p>On the first Monday of the month\, we'll do Pokemon GO! in
  the park\, weather permitting.</p>
URL;VALUE=URI:https://events.getlocalhop.com/pokemon-card-club/event/73Etw
 uppre/
END:VEVENT
BEGIN:VEVENT
UID:event-instance-8ao1WtllPT@events.getlocalhop.com
SEQUENCE:0
DTSTAMP:20260423T142533Z
DTSTART:20260803T190000Z
DTEND:20260803T210000Z
SUMMARY:Pokemon Card Club
LOCATION:Louisville Public Library\, 1600 S Nickelplate St.\, Louisville\,
  OH 44641 Louisville\, OH 44641
DESCRIPTION:<p><strong>New Time!</strong>&nbsp\; Trade cards\, play the ga
 me\, or just hang out and talk Pokemon! &nbsp\;All experience levels are w
 elcome.</p>\n<p>On the first Monday of the month\, we'll do Pokemon GO! in
  the park\, weather permitting.</p>
URL;VALUE=URI:https://events.getlocalhop.com/pokemon-card-club/event/73Etw
 uppre/
END:VEVENT
BEGIN:VEVENT
UID:event-instance-L1aDOrSb2A@events.getlocalhop.com
SEQUENCE:0
DTSTAMP:20260423T142533Z
DTSTART:20260810T190000Z
DTEND:20260810T210000Z
SUMMARY:Pokemon Card Club
LOCATION:Louisville Public Library\, 1600 S Nickelplate St.\, Louisville\,
  OH 44641 Louisville\, OH 44641
DESCRIPTION:<p><strong>New Time!</strong>&nbsp\; Trade cards\, play the ga
 me\, or just hang out and talk Pokemon! &nbsp\;All experience levels are w
 elcome.</p>\n<p>On the first Monday of the month\, we'll do Pokemon GO! in
  the park\, weather permitting.</p>
URL;VALUE=URI:https://events.getlocalhop.com/pokemon-card-club/event/73Etw
 uppre/
END:VEVENT
BEGIN:VEVENT
UID:event-instance-6PDkOtV9Of@events.getlocalhop.com
SEQUENCE:0
DTSTAMP:20260423T142533Z
DTSTART:20260817T190000Z
DTEND:20260817T210000Z
SUMMARY:Pokemon Card Club
LOCATION:Louisville Public Library\, 1600 S Nickelplate St.\, Louisville\,
  OH 44641 Louisville\, OH 44641
DESCRIPTION:<p><strong>New Time!</strong>&nbsp\; Trade cards\, play the ga
 me\, or just hang out and talk Pokemon! &nbsp\;All experience levels are w
 elcome.</p>\n<p>On the first Monday of the month\, we'll do Pokemon GO! in
  the park\, weather permitting.</p>
URL;VALUE=URI:https://events.getlocalhop.com/pokemon-card-club/event/73Etw
 uppre/
END:VEVENT
BEGIN:VEVENT
UID:event-instance-krtqvVqDUf@events.getlocalhop.com
SEQUENCE:0
DTSTAMP:20260423T142533Z
DTSTART:20260824T190000Z
DTEND:20260824T210000Z
SUMMARY:Pokemon Card Club
LOCATION:Louisville Public Library\, 1600 S Nickelplate St.\, Louisville\,
  OH 44641 Louisville\, OH 44641
DESCRIPTION:<p><strong>New Time!</strong>&nbsp\; Trade cards\, play the ga
 me\, or just hang out and talk Pokemon! &nbsp\;All experience levels are w
 elcome.</p>\n<p>On the first Monday of the month\, we'll do Pokemon GO! in
  the park\, weather permitting.</p>
URL;VALUE=URI:https://events.getlocalhop.com/pokemon-card-club/event/73Etw
 uppre/
END:VEVENT
BEGIN:VEVENT
UID:event-instance-vVUdAycvbT@events.getlocalhop.com
SEQUENCE:0
DTSTAMP:20260423T142533Z
DTSTART:20260831T190000Z
DTEND:20260831T210000Z
SUMMARY:Pokemon Card Club
LOCATION:Louisville Public Library\, 1600 S Nickelplate St.\, Louisville\,
  OH 44641 Louisville\, OH 44641
DESCRIPTION:<p><strong>New Time!</strong>&nbsp\; Trade cards\, play the ga
 me\, or just hang out and talk Pokemon! &nbsp\;All experience levels are w
 elcome.</p>\n<p>On the first Monday of the month\, we'll do Pokemon GO! in
  the park\, weather permitting.</p>
URL;VALUE=URI:https://events.getlocalhop.com/pokemon-card-club/event/73Etw
 uppre/
END:VEVENT
END:VCALENDAR