BEGIN:VCALENDAR
VERSION:2.0
PRODID:-//events.getlocalhop.com//localhop-calendar//EN
URL:https://api.getlocalhop.com/calendar?instance=tE9SSgAS8m&series=false
BEGIN:VEVENT
UID:event-instance-tE9SSgAS8m@events.getlocalhop.com
SEQUENCE:0
DTSTAMP:20260419T125138Z
DTSTART:20240608T140000Z
DTEND:20240609T010000Z
SUMMARY:Hartford Public Library at the Hartford Strawberry Festival
LOCATION:Ely Park\, W. Main St. Hartford\, MI 49057
DESCRIPTION:<p>The Hartford Public Library will be at the Hartford Strawbe
 rry Festival June 7 &amp\; 8\, 2024. Stop by our booth for some yummy stra
 wberry shortcake and fresh strawberries.&nbsp\;</p>
URL;VALUE=URI:https://events.getlocalhop.com/hartford-public-library-at-th
 e-hartford-strawberry-festival/event/cMpRooCYW9/
END:VEVENT
END:VCALENDAR