BEGIN:VCALENDAR
VERSION:2.0
PRODID:-//events.getlocalhop.com//localhop-calendar//EN
URL:https://api.getlocalhop.com/calendar?instance=tBluqcGWJC&series=false
BEGIN:VEVENT
UID:event-instance-tBluqcGWJC@events.getlocalhop.com
SEQUENCE:0
DTSTAMP:20260426T025031Z
DTSTART:20221229T190000Z
DTEND:20221229T200000Z
SUMMARY:Candyland Escape Room
LOCATION:Bloomfield Township Public Library\, 1099 Lone Pine Road Bloomfie
 ld Township\, MI 48302\, Youth Program Room
DESCRIPTION:<p>Enter a world of sweet treats and help friends like Queen F
 rostine\, Princess Lolly\, and King Kandy protect Candy Land from the clut
 ches of Lord Licorice. Can you help break codes and decipher clues to unlo
 ck the key to saving Candy Land? For ages 10-13. Registration begins Decem
 ber 5. This is the same program offered at 3:30pm. Please register for onl
 y one time slot.</p>\n<p>&nbsp\;</p>\n<p>For more information or to reques
 t accessibility accommodations\, please contact Youth Services at 248-642-
 5800 or askyouth@btpl.org.</p>\n<p>&nbsp\;</p>\n<p>*Space is limited!</p>
URL;VALUE=URI:https://events.getlocalhop.com/candyland-escape-room/event/9
 4EOv3IENs/
END:VEVENT
END:VCALENDAR