BEGIN:VCALENDAR
VERSION:2.0
PRODID:-//events.getlocalhop.com//localhop-calendar//EN
URL:https://api.getlocalhop.com/calendar?instance=t716GWHU1K&series=false
BEGIN:VEVENT
UID:event-instance-t716GWHU1K@events.getlocalhop.com
SEQUENCE:0
DTSTAMP:20260425T160840Z
DTSTART:20260425T160000Z
DTEND:20260425T190000Z
SUMMARY:Mini Con
LOCATION:Alexandrian Public Library\, 115 West Fifth Street Mount Vernon\,
  IN 47620
DESCRIPTION:<p>Join us for an all-ages celebration of geek and pop culture
 ! There will be cosplay contests\, games\, activities\, and several artist
 s and vendors to shop from throughout the library\, along with a food truc
 k in the main parking lot. &nbsp\;</p>
URL;VALUE=URI:https://events.getlocalhop.com/mini-con/event/ZMSKOWeQjj/
END:VEVENT
END:VCALENDAR