BEGIN:VCALENDAR
VERSION:2.0
PRODID:-//events.getlocalhop.com//localhop-calendar//EN
URL:https://api.getlocalhop.com/calendar?instance=t3oaH6HY4J&series=false
BEGIN:VEVENT
UID:event-instance-t3oaH6HY4J@events.getlocalhop.com
SEQUENCE:0
DTSTAMP:20260425T135240Z
DTSTART:20260501T200000Z
DTEND:20260501T210000Z
SUMMARY:Cancelled - LEGO Club
LOCATION:Youth Services - PWPL\, 217 N. Front St. Marquette\, MI 49855\, G
 reat Room
DESCRIPTION:<p>The library is closing early due to an event. LEGO Club is 
 cancelled</p>
URL;VALUE=URI:https://events.getlocalhop.com/cancelled-lego-club/event/YDb
 C1UOqPw/
END:VEVENT
END:VCALENDAR