BEGIN:VCALENDAR
VERSION:2.0
PRODID:-//events.getlocalhop.com//localhop-calendar//EN
URL:https://api.getlocalhop.com/calendar?instance=sd2oueun6k&series=false
BEGIN:VEVENT
UID:event-instance-sd2oueun6k@events.getlocalhop.com
SEQUENCE:0
DTSTAMP:20260419T123821Z
DTSTART:20240611T170000Z
DTEND:20240611T200000Z
SUMMARY:Big Ty'm Fun - Video Game Truck (Q)
LOCATION:Quincy Branch Library\, 11 N. Main St. Quincy\, MI 49082
DESCRIPTION:<p>Big Ty'm Fun will join us for three FUN hours of nothing bu
 t video games! Called Michigan's BEST game truck with 5 HUGE TVs\, laser l
 ights\, neon glow\, and the best games! Come check out what games they hav
 e &amp\; bring your friends to play!</p>
URL;VALUE=URI:https://events.getlocalhop.com/big-tym-fun-video-game-truck-
 q/event/CdE1k0DSIr/
END:VEVENT
END:VCALENDAR