BEGIN:VCALENDAR
VERSION:2.0
PRODID:-//events.getlocalhop.com//localhop-calendar//EN
URL:https://api.getlocalhop.com/calendar?instance=rymjABDj1x&series=false
BEGIN:VEVENT
UID:event-instance-rymjABDj1x@events.getlocalhop.com
SEQUENCE:0
DTSTAMP:20260419T133621Z
DTSTART:20210629T200000Z
DTEND:20210629T213000Z
SUMMARY:Alpha Group Ages 12-14 4:00pm/Teen Dungeons & Dragons Part 2
LOCATION:Redford Township District Library\, 25320 W. Six Mile Rd Redford\
 , MI 48240
DESCRIPTION:We will be playing a short module (story) entitled\, \"Legends
  are Made\, Not Born\,\"  part 2. Premade character sheets will be created
  and emailed to you before the game. If you knw what character class you w
 ant to play\, let me know!      Contact Kendra : kwilliams@rtdl.org\n\nAlp
 ha Group- Ages 12-14 will play from 4:00pm-5:00pm\, with a 30 minute wrap 
 up until 5:30pm. \n\nBravo Group- Ages 15-18 will play from 5:30pm-6:30pm\
 , with a 30 minute wrap up until 7:00pm.\n\nPLEASE JOIN PROMPTLY. \nThis p
 rogram is for Redford residents and/or students. Thank you.
URL;VALUE=URI:https://events.getlocalhop.com/alpha-group-ages-1214-400pmte
 en-dungeons-and-dragons-part-2/event/CaQYz9D8WI/
END:VEVENT
END:VCALENDAR