BEGIN:VCALENDAR
VERSION:2.0
PRODID:-//events.getlocalhop.com//localhop-calendar//EN
URL:https://api.getlocalhop.com/calendar?instance=rcQ1yOZhCR&series=false
BEGIN:VEVENT
UID:event-instance-rcQ1yOZhCR@events.getlocalhop.com
SEQUENCE:0
DTSTAMP:20260425T112108Z
DTSTART:20240328T170000Z
DTEND:20240328T180000Z
SUMMARY:Salt City Fiction Society (M)
LOCATION:Trophies Cafe\, 343 River Street Manistee\, MI 49660
DESCRIPTION:<p><strong>March Selection: &nbsp\;\"Kindred\" by Octavia E. B
 utler.&nbsp\;</strong></p>\n<p>Join us at Trophies Cafe in Manistee for th
 e March fiction book club discussion. The Salt City Fiction Society is a b
 ook club for readers that enjoy a solid plot\, unique and relatable charac
 ters and thought-provoking ideas.</p>\n<p>Reserve your copy today through 
 inter-library loan\, Libby (eBook) or Hoopla (e-audiobook).&nbsp\;</p>\n<p
 >&nbsp\;</p>\n<p>This program is free and intended for adults.<strong> Reg
 istration is required.&nbsp\;</strong></p>
URL;VALUE=URI:https://events.getlocalhop.com/salt-city-fiction-society-m/e
 vent/3EWZaSlzgy/
END:VEVENT
END:VCALENDAR