BEGIN:VCALENDAR
VERSION:2.0
PRODID:-//events.getlocalhop.com//localhop-calendar//EN
URL:https://api.getlocalhop.com/calendar?instance=rBOxHTgWfS&series=false
BEGIN:VEVENT
UID:event-instance-rBOxHTgWfS@events.getlocalhop.com
SEQUENCE:0
DTSTAMP:20260422T133542Z
DTSTART;VALUE=DATE:20260422
DTEND;VALUE=DATE:20260423
X-MICROSOFT-CDO-ALLDAYEVENT:TRUE
X-MICROSOFT-MSNCALENDAR-ALLDAYEVENT:TRUE
SUMMARY:Public Shopping for the  Arts and Crafts Supply Swap
LOCATION:9800 Pontiac Trl South Lyon\, MI 48178
DESCRIPTION:<p>The very popular Craft Swap is back for another season. Cle
 an out that craft stash and pass on your surplus supplies then shop the sw
 ap for a new hobby or unique craft treasures. Donate to the swap and recei
 ve an early access shopping ticket. Adjustments will be made based on the 
 amount of donations received and shopper feedback\; more details will be a
 vailable as we get closer to April.&nbsp\;</p>\n<p><strong>Donation drop o
 ff:</strong> Monday\, April 13 &ndash\; Saturday\, April 18&nbsp\;<br /><s
 trong>Ticketed Shopping:</strong> Tuesday\, April 21 from 3:00 - 7:00 PM -
  The library will provide all shopping bags and there will be a bag limit.
  No entries after 7:00 PM. Swap closes by 7:45 to ensure the library can c
 lose on time.&nbsp\;<br /><strong>Public Swap Shopping: </strong>Wednesday
 \, April 22 &ndash\; Saturday\, April 25&nbsp\;</p>\n<p>We often take phot
 ographs during library events. Please let our photographer know if you do 
 not want us to publish your photo.</p>\n<p>For more information or to requ
 est accessibility accommodations please contact Adult Services at 248-437-
 6431 or send an email to: adultdepartment@ssldl.info</p>
URL;VALUE=URI:https://events.getlocalhop.com/public-shopping-for-the-arts-
 and-crafts-supply-swap/event/GZWj7Isvww/
END:VEVENT
END:VCALENDAR