BEGIN:VCALENDAR
VERSION:2.0
PRODID:-//events.getlocalhop.com//localhop-calendar//EN
URL:https://api.getlocalhop.com/calendar?instance=qtyRtjMhEG&series=false
BEGIN:VEVENT
UID:event-instance-qtyRtjMhEG@events.getlocalhop.com
SEQUENCE:0
DTSTAMP:20260425T160013Z
DTSTART:20220205T150000Z
DTEND:20220205T160000Z
SUMMARY:LEGO Play Hour
LOCATION:185 Kings Ferry Road Montrose\, NY 10548
DESCRIPTION:<p>Join our Saturday block party! This meeting will feature a 
 theme\, a related story or book talk\, and an hour of LEGO building. For c
 hildren Kindergarten through Grade 4. REGISTRATION IS REQUIRED (parents/ca
 regivers do not need to register). Space is limited to the first 15 partic
 ipants. MASKS ARE REQUIRED INDOORS FOR ALL PATRONS AGE 2 AND UP REGARDLESS
  OF VACCINATION STATUS.</p>
URL;VALUE=URI:https://events.getlocalhop.com/lego-play-hour/event/oyn64T3z
 3Q/
END:VEVENT
END:VCALENDAR