BEGIN:VCALENDAR
VERSION:2.0
PRODID:-//events.getlocalhop.com//localhop-calendar//EN
URL:https://api.getlocalhop.com/calendar?instance=qhJ9dCI9xo&series=false
BEGIN:VEVENT
UID:event-instance-qhJ9dCI9xo@events.getlocalhop.com
SEQUENCE:0
DTSTAMP:20260420T135133Z
DTSTART:20260601T140000Z
DTEND:20260601T150000Z
SUMMARY:Community Classroom with Purdue Extension
LOCATION:Jasper Public  Library\, 100 3rd Ave. Suite B Jasper\, IN 47546\,
  Programming
DESCRIPTION:<p>After decorating your water bottle\, keep the fun going by 
 heading over to the Community Classroom for a hands-on\, high-energy exper
 ience with Purdue Extension! Participants will have the chance to hop on a
  smoothie-making bike and pedal their way to a delicious\, healthy treat. 
 As you power the blender with your own energy\, you&rsquo\;ll learn about 
 nutrition\, fresh ingredients\, and how simple choices can fuel your body.
  It&rsquo\;s a fun mix of creativity\, movement\, and learning&mdash\;plus
  you get to enjoy the smoothie you made yourself!</p>
URL;VALUE=URI:https://events.getlocalhop.com/community-classroom-with-purd
 ue-extension/event/0DF2D7qSAV/
END:VEVENT
END:VCALENDAR