BEGIN:VCALENDAR
VERSION:2.0
PRODID:-//events.getlocalhop.com//localhop-calendar//EN
URL:https://api.getlocalhop.com/calendar?instance=qVyna2zZWO&series=false
BEGIN:VEVENT
UID:event-instance-qVyna2zZWO@events.getlocalhop.com
SEQUENCE:0
DTSTAMP:20260420T110537Z
DTSTART:20260330T200000Z
DTEND:20260330T210000Z
SUMMARY:Bookworms Bookclub
LOCATION:Jasper Public  Library\, 100 3rd Ave. Suite B Jasper\, IN 47546\,
  Programming Room
DESCRIPTION:<p>Kids in grades 2-4 can join our bookclub which is once a mo
 nth. At the March meeting\, they will discuss the book&nbsp\; Chester and 
 Gus by Cammie Mcgovern. We will have snacks and other activities centered 
 around the book.&nbsp\;</p>
URL;VALUE=URI:https://events.getlocalhop.com/bookworms-bookclub/event/dHFL
 CyEC3c/
END:VEVENT
END:VCALENDAR