BEGIN:VCALENDAR
VERSION:2.0
PRODID:-//events.getlocalhop.com//localhop-calendar//EN
URL:https://api.getlocalhop.com/calendar?instance=pky5mMvDJZ&series=false
BEGIN:VEVENT
UID:event-instance-pky5mMvDJZ@events.getlocalhop.com
SEQUENCE:0
DTSTAMP:20260423T015329Z
DTSTART:20211114T190000Z
DTEND:20211114T200000Z
SUMMARY:Duo Cello Performance with Howard Cohen and Seth Jacobs
LOCATION:Hendrick Hudson Free Library\, 185 Kings Ferry Road Montrose\, NY
  10548
DESCRIPTION:Seth Jacobs and Howard Cohen\, accomplished cellists\, will pe
 rform musical numbers\, from Bach to the Beatles.  Seth will also play gui
 tar and sing.  Musical selections will include classical\, klezmer\, Yiddi
 sh\, bossa nova\, bluegrass\, and popular songs.  Registration begins Octo
 ber 22.  Note:  Masks must be worn by all participants regardless of vacci
 nation status.
URL;VALUE=URI:https://events.getlocalhop.com/duo-cello-performance-with-ho
 ward-cohen-and-seth-jacobs/event/zHb79cqLem/
END:VEVENT
END:VCALENDAR