BEGIN:VCALENDAR
VERSION:2.0
PRODID:-//events.getlocalhop.com//localhop-calendar//EN
URL:https://api.getlocalhop.com/calendar?instance=pWhr3HHZcT&series=false
BEGIN:VEVENT
UID:event-instance-pWhr3HHZcT@events.getlocalhop.com
SEQUENCE:0
DTSTAMP:20260423T154429Z
DTSTART:20230303T000000Z
DTEND:20230303T010000Z
SUMMARY:The Whiskey Charmers
LOCATION:Romeo District Library - Graubner\, 65821 Van Dyke Washington\, M
 I 48095
DESCRIPTION:<p>&nbsp\;The Whiskey Charmers is a Detroit-based Alt Country 
 band led by Carrie Shepard and Lawrence Daversa. Fans have often compared 
 their sound to riding through the desert with the top down\, or the feelin
 g of being in some lonesome smoky bar off the side of an abandoned highway
 \, or music from a Spaghetti Western\; either way\, one thing is for sure:
  you will love their music and unique style. No registration needed.</p>
URL;VALUE=URI:https://events.getlocalhop.com/the-whiskey-charmers/event/Mg
 YVGIy0wB/
END:VEVENT
END:VCALENDAR