BEGIN:VCALENDAR
VERSION:2.0
PRODID:-//events.getlocalhop.com//localhop-calendar//EN
URL:https://api.getlocalhop.com/calendar?instance=pQNZWF6LIJ&series=false
BEGIN:VEVENT
UID:event-instance-pQNZWF6LIJ@events.getlocalhop.com
SEQUENCE:0
DTSTAMP:20260422T021620Z
DTSTART;VALUE=DATE:20220131
DTEND;VALUE=DATE:20220201
X-MICROSOFT-CDO-ALLDAYEVENT:TRUE
X-MICROSOFT-MSNCALENDAR-ALLDAYEVENT:TRUE
SUMMARY:Winter Reading Challenge
LOCATION:300 West Merrill Street Birmingham\, MI 48009
DESCRIPTION:For Kids (babies to 6th Grade) - Grab one of four bookmarks fr
 om the Youth Reference Desk and follow the reading suggestions. Turn in yo
 ur completed bookmark for a prize!\n\nFor Teens (6th to 12th grade) - Grab
  a bingo card from the Adult Reference Desk and complete five reading sugg
 estions in a row. Turn in your bingo card for a chance to win a prize!\n\n
 For Adults - Grab a bookmark from the Adult Reference Desk\, complete the 
 suggestions and turn the bookmark in for a chance to win a prize.\n\nFrom 
 December 1 to January 31.
URL;VALUE=URI:https://events.getlocalhop.com/winter-reading-challenge/even
 t/iEwBGl07pI/
END:VEVENT
END:VCALENDAR