BEGIN:VCALENDAR
VERSION:2.0
PRODID:-//events.getlocalhop.com//localhop-calendar//EN
URL:https://api.getlocalhop.com/calendar?instance=pCEbelc7DP&series=false
BEGIN:VEVENT
UID:event-instance-pCEbelc7DP@events.getlocalhop.com
SEQUENCE:0
DTSTAMP:20260425T112339Z
DTSTART:20230301T153000Z
DTEND:20230301T163000Z
SUMMARY:Preschool Storytime
LOCATION:Romeo District Library - Graubner\, 65821 Van Dyke Washington\, M
 I 48095
DESCRIPTION:<p>Come read stories\, sing songs\, and take home a fun craft!
  For ages 3-5. No registration required.&nbsp\;</p>
URL;VALUE=URI:https://events.getlocalhop.com/preschool-storytime/event/Xdj
 9FI72bH/
END:VEVENT
END:VCALENDAR