BEGIN:VCALENDAR
VERSION:2.0
PRODID:-//events.getlocalhop.com//localhop-calendar//EN
URL:https://api.getlocalhop.com/calendar?instance=p4VKV3mHmQ&series=false
BEGIN:VEVENT
UID:event-instance-p4VKV3mHmQ@events.getlocalhop.com
SEQUENCE:0
DTSTAMP:20260426T041359Z
DTSTART:20201112T000000Z
DTEND:20201112T010000Z
SUMMARY:The Snow Killings: Inside the Oakland County Child Killer Investig
 ation
LOCATION:300 West Merrill Street Birmingham\, MI 48009
DESCRIPTION:Author Marney Rich Keenan gives a talk based on her book\, The
  Snow Killings\, all about the investigation into the case of the Oakland 
 County Child Killer.\n\nThe Zoom link and instructions will be sent to reg
 istered participants on the day of the event.
URL;VALUE=URI:https://events.getlocalhop.com/the-snow-killings-inside-the-
 oakland-county-child-killer-investigation/event/DDNVOS2ib9/
END:VEVENT
END:VCALENDAR