BEGIN:VCALENDAR
VERSION:2.0
PRODID:-//events.getlocalhop.com//localhop-calendar//EN
URL:https://api.getlocalhop.com/calendar?instance=ow5AGY41Tk&series=false
BEGIN:VEVENT
UID:event-instance-ow5AGY41Tk@events.getlocalhop.com
SEQUENCE:0
DTSTAMP:20260419T123849Z
DTSTART:20260728T223000Z
DTEND:20260728T233000Z
SUMMARY:Author Visit with Annalise Ryan
LOCATION:Fire2Fork\, 2484 County Rd O S Delavan\, WI 53115
DESCRIPTION:<p>Please join Delavan Public Library and Barrett Memorial Lib
 rary (Williams Bay) at Fire2Fork as we welcome best-selling mystery author
  Annelise Ryan!<br />Annelise Ryan is a best-selling writer that has been 
 entertaining mystery fiction enthusiasts for nearly two decades mystery se
 ries. Now she brings her unique combination of wit\, humor\, murder\, and 
 mayhem to a series featuring bookstore owner and cryptozoologist\, Morgan 
 Carter\, and her devoted canine sidekick\, Newt as they solved mysteries i
 nvolving cryptids throughout the state of Wisconsin.<br />For their first 
 outing\, A DEATH IN DOOR COUNTY\, Morgan is hired to determine if a series
  of mysterious deaths might be the result of a Loch Ness-type monster lurk
 ing in the depths of Lake Michigan.<br />Book two in the series\, DEATH IN
  THE DARK WOODS\, engages Morgan and Newt in a hunt for a potentially homi
 cidal Bigfoot in northern Wisconsin&rsquo\;s Chequamegon-Nicolet National 
 Forest and the Apostle Islands of Lake Superior.<br />Book #3\, BEAST OF T
 HE NORTH WOODS\, has Morgan and Newt hunting for a deadly Hodag in Rhinela
 nder\, Wisconsin.<br />Book #4\, MONSTER IN THE MOONLIGHT\, features the B
 east of Bray Road\, a werewolf-type creature associated with Elkhorn\, WI 
 and was released on January 27\, 2026.<br />Who knew Wisconsin had so many
  cryptids?</p>
URL;VALUE=URI:https://events.getlocalhop.com/author-visit-with-annalise-ry
 an/event/3RBjtPtfiU/
END:VEVENT
END:VCALENDAR