BEGIN:VCALENDAR
VERSION:2.0
PRODID:-//events.getlocalhop.com//localhop-calendar//EN
URL:https://api.getlocalhop.com/calendar?instance=oms80lgtQs&series=false
BEGIN:VEVENT
UID:event-instance-oms80lgtQs@events.getlocalhop.com
SEQUENCE:0
DTSTAMP:20260419T141307Z
DTSTART:20250425T213000Z
DTEND:20250425T230000Z
SUMMARY:Friends of the Library Preview Book Sale
LOCATION:Johnson City Public Library\, 100 West Millard Street Johnson Cit
 y\, TN 37604\, Jones Meeting Center
DESCRIPTION:<p>Friends of the Library members are invited to a preview boo
 k sale on Friday\, April 25 from 5:30-7 p.m. If you're interested in joini
 ng the Friends\, visit <a href=\"https://www.jcpl.org/support/friends/\">j
 cpl.org/friends</a> or sign up at the preview sale.</p>\n<p>The book sale 
 is open to the public on Saturday\, April 26 from 10 a.m.-3 p.m. and Sunda
 y\, April 27 from 1-3 p.m. Sunday's sale includes a special $5 per bag dea
 l. All proceeds support Johnson City Public Library. Find more information
  at <a href=\"https://www.jcpl.org/support/book-sales/\">jcpl.org/book-sal
 es</a>.</p>
URL;VALUE=URI:https://events.getlocalhop.com/friends-of-the-library-previe
 w-book-sale/event/Z6MQDYfmtH/
END:VEVENT
END:VCALENDAR