BEGIN:VCALENDAR
VERSION:2.0
PRODID:-//events.getlocalhop.com//localhop-calendar//EN
URL:https://api.getlocalhop.com/calendar?instance=okdOkHxWdP&series=false
BEGIN:VEVENT
UID:event-instance-okdOkHxWdP@events.getlocalhop.com
SEQUENCE:0
DTSTAMP:20260425T184126Z
DTSTART:20240520T150000Z
DTEND:20240520T153000Z
SUMMARY:Jump Into Reading
LOCATION:Eaton Rapids Area District\, 220 S Main St. Eaton Rapids\, MI 488
 27
DESCRIPTION:<p>Join Ms. Erin every Monday for stories\, songs\, and activi
 ties in the Library!</p>\n<p>Therapy dogs will be present\, too.&nbsp\;Fre
 e play is encouraged after Storytime ends.&nbsp\;</p>\n<p>&nbsp\;</p>\n<p>
 <em>No Library Card or registration is needed. Intended for children ages 
 0-5 and their caregivers.</em></p>\n<p>&nbsp\;</p>\n<p><strong>*No Storyti
 me will be held on Monday\, February 5th.&nbsp\;</strong></p>\n<p>&nbsp\;<
 /p>
URL;VALUE=URI:https://events.getlocalhop.com/jump-into-reading/event/7CHVF
 pLpct/
END:VEVENT
END:VCALENDAR