BEGIN:VCALENDAR
VERSION:2.0
PRODID:-//events.getlocalhop.com//localhop-calendar//EN
URL:https://api.getlocalhop.com/calendar?instance=obpDoov3zC&series=false
BEGIN:VEVENT
UID:event-instance-obpDoov3zC@events.getlocalhop.com
SEQUENCE:0
DTSTAMP:20260422T133555Z
DTSTART:20260423T223000Z
DTEND:20260424T000000Z
SUMMARY:Something Different Book Club
LOCATION:Salem-South Lyon District Library\, 9800 Pontiac Trail South Lyon
 \, MI 48178\, Meeting Room 2
DESCRIPTION:<p>Something Different is a book club that offers a variety of
  genres. There is 'SOMETHING' for everyone! This month's title: The Art of
  Fielding by Chad Harbach.</p>\n<p>At Westish College\, a small school on 
 the shore of Lake Michigan\, baseball star Henry Skrimshander seems destin
 ed for big league stardom. But when a routine throw goes disastrously off 
 course\, the fates of five people are upended.</p>\n<p>Henry's fight again
 st self-doubt threatens to ruin his future. College president Guert Affenl
 ight\, a longtime bachelor\, has fallen unexpectedly and helplessly in lov
 e. Owen Dunne\, Henry's gay roommate and teammate\, becomes caught up in a
  dangerous affair. Mike Schwartz\, the Harpooners' team captain and Henry'
 s best friend\, realizes he has guided Henry's career at the expense of hi
 s own. And Pella Affenlight\, Guert's daughter\, returns to Westish after 
 escaping an ill-fated marriage\, determined to start a new life.</p>\n<p>A
 s the season counts down to its climactic final game\, these five are forc
 ed to confront their deepest hopes\, anxieties\, and secrets. In the proce
 ss they forge new bonds\, and help one another find their true paths. Writ
 ten with boundless intelligence and filled with the tenderness of youth\, 
 The Art of Fielding is an expansive\, warmhearted novel about ambition and
  its limits\, about family and friendship and love\, and about commitment 
 - to oneself and to others.</p>\n<p>&nbsp\;</p>\n<p>We often take photogra
 phs during library events. Please let our photographer know if you do not 
 want us to publish your photo.</p>\n<p>For more information or to request 
 accessibility accommodations please contact Adult Services at 248-437-6431
  or send an email to: adultdepartment@ssldl.info</p>
URL;VALUE=URI:https://events.getlocalhop.com/something-different-book-club
 /event/rvFXLq3MDK/
END:VEVENT
END:VCALENDAR