BEGIN:VCALENDAR
VERSION:2.0
PRODID:-//events.getlocalhop.com//localhop-calendar//EN
URL:https://api.getlocalhop.com/calendar?instance=oKF5g4eaNV&series=false
BEGIN:VEVENT
UID:event-instance-oKF5g4eaNV@events.getlocalhop.com
SEQUENCE:0
DTSTAMP:20260423T135628Z
DTSTART:20260503T180000Z
DTEND:20260503T191500Z
SUMMARY:Songwriter Series: Matt Fredericks
LOCATION:Ferndale Area District Library\, 222 East 9 Mile Ferndale\, MI 48
 220
DESCRIPTION:<p>Local songwriter Matt Fredericks has the warm heart of a bl
 ue-collar poet\; he&rsquo\;s long been the leader of the folk-Americana gr
 oup known as Poor Player (a subtle Shakespearean reference).</p>\n<p>Frede
 ricks&rsquo\; songs blend a folk-singers storytelling sensibilities with a
  bit of alt-country twang!</p>\n<p>Plus\, he holds a degree in Information
 /Library Sciences!</p>\n<p>So\, come check out his show on what&rsquo\;s b
 asically his home turf!&nbsp\;</p>\n<p>This event is free and open to all-
 ages! No registration required.</p>\n<p>Sponsored by the Friends of the Fe
 rndale Library.&nbsp\;</p>\n<p>&nbsp\;</p>
URL;VALUE=URI:https://events.getlocalhop.com/songwriter-series-matt-freder
 icks/event/EK7kCDljyE/
END:VEVENT
END:VCALENDAR