BEGIN:VCALENDAR
VERSION:2.0
PRODID:-//events.getlocalhop.com//localhop-calendar//EN
URL:https://api.getlocalhop.com/calendar?instance=oG0cykyTZP&series=false
BEGIN:VEVENT
UID:event-instance-oG0cykyTZP@events.getlocalhop.com
SEQUENCE:0
DTSTAMP:20260425T025344Z
DTSTART:20190313T230000Z
DTEND:20190314T000000Z
SUMMARY:Science Fiction Book Club
LOCATION:222 E 9 Mile Road Ferndale\, MI 48220
DESCRIPTION:Reading: \"Empire Star\" by Samuel L. Delaney
URL;VALUE=URI:https://events.getlocalhop.com/science-fiction-book-club/eve
 nt/tmtR3WOBFv/
END:VEVENT
END:VCALENDAR