BEGIN:VCALENDAR
VERSION:2.0
PRODID:-//events.getlocalhop.com//localhop-calendar//EN
URL:https://api.getlocalhop.com/calendar?instance=o5PA8Q3DZb&series=false
BEGIN:VEVENT
UID:event-instance-o5PA8Q3DZb@events.getlocalhop.com
SEQUENCE:0
DTSTAMP:20260426T032315Z
DTSTART:20220316T220000Z
DTEND:20220316T230000Z
SUMMARY:Book Chat: Spring Reads
LOCATION:Greenwood Public Library\, 310 S. Meridian Greenwood\, IN 46143
DESCRIPTION:Need some new reading suggestions this spring? Join Emily and 
 Susan as they review new titles out this season that should be on your TBR
  list. For those 18 and up. Registration required.
URL;VALUE=URI:https://events.getlocalhop.com/book-chat-spring-reads/event/
 KaoQL5Ew8o/
END:VEVENT
END:VCALENDAR