BEGIN:VCALENDAR
VERSION:2.0
PRODID:-//events.getlocalhop.com//localhop-calendar//EN
URL:https://api.getlocalhop.com/calendar?instance=o3kLfCt4Sw&series=false
BEGIN:VEVENT
UID:event-instance-o3kLfCt4Sw@events.getlocalhop.com
SEQUENCE:0
DTSTAMP:20260423T100033Z
DTSTART:20250329T160000Z
DTEND:20250329T170000Z
SUMMARY:Adopt a Reading Buddy!
LOCATION:Henika District Library\, 149 S MAIN ST Wayland\, MI 49348
DESCRIPTION:<p>Looking for a cuddly companion to read with? Stop by the li
 brary and adopt a Reading Buddy! Kids ages 2-12 can choose a stuffed anima
 l friend to take home along with a special adoption certificater.</p>\n<p>
 No fees\, just fun! 🥰📖 Supplies are limited\, so Registration Required! 
 Registation opens on Saturday\, March 15th.</p>
URL;VALUE=URI:https://events.getlocalhop.com/adopt-a-reading-buddy/event/v
 oHDhsK5Ah/
END:VEVENT
END:VCALENDAR