BEGIN:VCALENDAR
VERSION:2.0
PRODID:-//events.getlocalhop.com//localhop-calendar//EN
URL:https://api.getlocalhop.com/calendar?instance=nDbgsRosGP&series=false
BEGIN:VEVENT
UID:event-instance-nDbgsRosGP@events.getlocalhop.com
SEQUENCE:0
DTSTAMP:20260423T013341Z
DTSTART:20211108T183000Z
DTEND:20211108T203000Z
SUMMARY:Virtual Children's Roundtable Meeting
LOCATION:44750 Delco Blvd. Sterling Heights\, MI 48313
DESCRIPTION:Virtual Children's Roundtable Meeting
URL;VALUE=URI:https://events.getlocalhop.com/virtual-childrens-roundtable-
 meeting/event/5t1QlEp9SC/
END:VEVENT
END:VCALENDAR