BEGIN:VCALENDAR
VERSION:2.0
PRODID:-//events.getlocalhop.com//localhop-calendar//EN
URL:https://api.getlocalhop.com/calendar?instance=mltXGkaaP5&series=false
BEGIN:VEVENT
UID:event-instance-mltXGkaaP5@events.getlocalhop.com
SEQUENCE:0
DTSTAMP:20260419T124129Z
DTSTART:20251105T230000Z
DTEND:20251106T013000Z
SUMMARY:Pumpkin Soirée
LOCATION:Delta Hotels Kalamazoo Conference Center\, 2747 S 11th Street Kal
 amazoo\, MI 49009
DESCRIPTION:<p>Kalamazoo in Bloom invites you to bring your appetite and g
 enerous spirit for this delicious tasting competition featuring local chef
 s who have prepared food made with pumpkin especially for this event.&nbsp
 \;</p>\n<p>Participants include:</p>\n<ul>\n<li>Fetzer Center</li>\n<li>Fi
 reKeepers Casino Hotel</li>\n<li>Kalamazoo Public Schools</li>\n<li>Kzoo C
 ream</li>\n<li>LFG Gaming Bar</li>\n<li>One Well Brewing</li>\n<li>Schultz
  Sweets</li>\n<li>418 Restaurant-KVCC</li>\n</ul>\n<p>Admission of $85 per
  person. Each ticket purchase comes with a complimentary drink ticket\, a 
 tray to carry your food\, a People's Choice voting ticket\, and a door pri
 ze ticket! The event also includes silent auction tables\, live jazz music
  by the Grant Rupp Trio\, ample free parking\, and a cash bar. Water\, tea
 \, and coffee are included with your admission.</p>\n<p>A pre-event ONLINE
  AUCTION is taking place through November 2. Bid on exclusive packages tha
 t are only available online here\,&nbsp\;<br /><a href=\"https://new.biddi
 ngowl.com/pumpkinsoiree2025auction\" target=\"_blank\" rel=\"noopener\">ht
 tps://new.biddingowl.com/pumpkinsoiree2025auction</a></p>\n<p>Get your TIC
 KETS by November 4 here (tickets are also available at the door)\,<br /><a
  href=\"https://kalamazooinbloom-bloom.kindful.com/e/pumpkin-soiree-2025\"
  target=\"_blank\" rel=\"noopener\">https://kalamazooinbloom-bloom.kindful
 .com/e/pumpkin-soiree-2025</a></p>\n<p>If you can't make it that night but
  would like to contribute\, DONATE here\,&nbsp\;<br /><a href=\"https://ka
 lamazooinbloom-bloom.kindful.com/?campaign=1270033\" target=\"_blank\" rel
 =\"noopener\">https://kalamazooinbloom-bloom.kindful.com/?campaign=1270033
 </a></p>
URL;VALUE=URI:https://events.getlocalhop.com/pumpkin-soiree/event/OLfAqqzk
 Yk/
END:VEVENT
END:VCALENDAR