BEGIN:VCALENDAR
VERSION:2.0
PRODID:-//events.getlocalhop.com//localhop-calendar//EN
URL:https://api.getlocalhop.com/calendar?instance=mVUxi0PKKp&series=false
BEGIN:VEVENT
UID:event-instance-mVUxi0PKKp@events.getlocalhop.com
SEQUENCE:0
DTSTAMP:20260420T150515Z
DTSTART;VALUE=DATE:20221224
DTEND;VALUE=DATE:20221225
X-MICROSOFT-CDO-ALLDAYEVENT:TRUE
X-MICROSOFT-MSNCALENDAR-ALLDAYEVENT:TRUE
SUMMARY:LIBRARY CLOSED
LOCATION:13101 Schavey Rd DeWitt\, MI 48820
DESCRIPTION:<p>The Library will be closed in observance of Christmas Eve.<
 /p>
URL;VALUE=URI:https://events.getlocalhop.com/library-closed/event/1OKoAA1c
 gl/
END:VEVENT
END:VCALENDAR