BEGIN:VCALENDAR
VERSION:2.0
PRODID:-//events.getlocalhop.com//localhop-calendar//EN
URL:https://api.getlocalhop.com/calendar?instance=mRQ2azHwRi&series=false
BEGIN:VEVENT
UID:event-instance-mRQ2azHwRi@events.getlocalhop.com
SEQUENCE:0
DTSTAMP:20260422T105026Z
DTSTART:20260602T140000Z
DTEND:20260602T150000Z
SUMMARY:Timelines for Genealogy
LOCATION:Jasper Public  Library\, 100 3rd Ave. Suite B Jasper\, IN 47546
DESCRIPTION:<p>Timelines will assist you in sorting out those ancestors wi
 th similar or repeating names. Help to establish relationships&nbsp\; as w
 ell as find your ancestors' place in their communities and&nbsp\; history.
  Understand the events surrounding thier personal decisions for migration\
 , careers\, family choices.</p>
URL;VALUE=URI:https://events.getlocalhop.com/timelines-for-genealogy/event
 /xrLCGMdC0s/
END:VEVENT
END:VCALENDAR